BEGIN:VCALENDAR
VERSION:2.0
PRODID:-//Rock31 - ECPv6.15.20//NONSGML v1.0//EN
CALSCALE:GREGORIAN
METHOD:PUBLISH
X-ORIGINAL-URL:https://rock31.org
X-WR-CALDESC:Events for Rock31
REFRESH-INTERVAL;VALUE=DURATION:PT1H
X-Robots-Tag:noindex
X-PUBLISHED-TTL:PT1H
BEGIN:VTIMEZONE
TZID:America/Denver
BEGIN:DAYLIGHT
TZOFFSETFROM:-0700
TZOFFSETTO:-0600
TZNAME:MDT
DTSTART:20170312T090000
END:DAYLIGHT
BEGIN:STANDARD
TZOFFSETFROM:-0600
TZOFFSETTO:-0700
TZNAME:MST
DTSTART:20171105T080000
END:STANDARD
BEGIN:DAYLIGHT
TZOFFSETFROM:-0700
TZOFFSETTO:-0600
TZNAME:MDT
DTSTART:20180311T090000
END:DAYLIGHT
BEGIN:STANDARD
TZOFFSETFROM:-0600
TZOFFSETTO:-0700
TZNAME:MST
DTSTART:20181104T080000
END:STANDARD
BEGIN:DAYLIGHT
TZOFFSETFROM:-0700
TZOFFSETTO:-0600
TZNAME:MDT
DTSTART:20190310T090000
END:DAYLIGHT
BEGIN:STANDARD
TZOFFSETFROM:-0600
TZOFFSETTO:-0700
TZNAME:MST
DTSTART:20191103T080000
END:STANDARD
END:VTIMEZONE
BEGIN:VEVENT
DTSTART;TZID=America/Denver:20181003T073000
DTEND;TZID=America/Denver:20181003T091500
DTSTAMP:20260421T063006
CREATED:20181001T160403Z
LAST-MODIFIED:20181001T160403Z
UID:49471-1538551800-1538558100@rock31.org
SUMMARY:BSED October Executive Committee Meeting
DESCRIPTION:Executive Committee Packet 10.03.18
URL:https://rock31.org/event/bsed-october-executive-committee-meeting/
LOCATION:Untitled
END:VEVENT
BEGIN:VEVENT
DTSTART;TZID=America/Denver:20181003T170000
DTEND;TZID=America/Denver:20181003T183000
DTSTAMP:20260421T063006
CREATED:20180925T164016Z
LAST-MODIFIED:20180925T164016Z
UID:49470-1538586000-1538591400@rock31.org
SUMMARY:Informational Meeting regarding Properties requesting inclusion in the Lockwood TEDD
DESCRIPTION:
URL:https://rock31.org/event/informational-meeting-regarding-properties-requesting-inclusion-in-the-lockwood-tedd/
LOCATION:Untitled
END:VEVENT
BEGIN:VEVENT
DTSTART;TZID=America/Denver:20181011T073000
DTEND;TZID=America/Denver:20181011T091500
DTSTAMP:20260421T063006
CREATED:20181010T070040Z
LAST-MODIFIED:20181010T070040Z
UID:49473-1539243000-1539249300@rock31.org
SUMMARY:EDA/EDC Joint Board Meeting
DESCRIPTION:Yellowstone Conference Room – 222 North 32nd Street. Billings\, MT 59101 \nVIEW THE AGENDA
URL:https://rock31.org/event/eda-edc-joint-board-meeting/
END:VEVENT
BEGIN:VEVENT
DTSTART;TZID=America/Denver:20181018T113000
DTEND;TZID=America/Denver:20181018T130000
DTSTAMP:20260421T063006
CREATED:20180914T155008Z
LAST-MODIFIED:20180914T155008Z
UID:49469-1539862200-1539867600@rock31.org
SUMMARY:2018 Building Remarkable Annual Meeting Lunch - Transforming Communities through Economic Development
DESCRIPTION:Seating for the 2018 Annual Meeting Lunch – Transforming Communities through Economic Development\nis limited and an registration is required to attend.\nPlease register below.
URL:https://rock31.org/event/annualmeetinglunch/
LOCATION:Untitled
END:VEVENT
BEGIN:VEVENT
DTSTART;TZID=America/Denver:20181025T080000
DTEND;TZID=America/Denver:20181025T170000
DTSTAMP:20260421T063006
CREATED:20181002T155823Z
LAST-MODIFIED:20181002T155823Z
UID:49472-1540454400-1540486800@rock31.org
SUMMARY:EDA Board Applications Due
DESCRIPTION:Yellowstone County Board Openings
URL:https://rock31.org/event/eda-board-applications-due/
END:VEVENT
END:VCALENDAR