BEGIN:VCALENDAR
VERSION:2.0
PRODID:-//Rock31 - ECPv6.15.20//NONSGML v1.0//EN
CALSCALE:GREGORIAN
METHOD:PUBLISH
X-WR-CALNAME:Rock31
X-ORIGINAL-URL:https://rock31.org
X-WR-CALDESC:Events for Rock31
REFRESH-INTERVAL;VALUE=DURATION:PT1H
X-Robots-Tag:noindex
X-PUBLISHED-TTL:PT1H
BEGIN:VTIMEZONE
TZID:America/Denver
BEGIN:DAYLIGHT
TZOFFSETFROM:-0700
TZOFFSETTO:-0600
TZNAME:MDT
DTSTART:20170312T090000
END:DAYLIGHT
BEGIN:STANDARD
TZOFFSETFROM:-0600
TZOFFSETTO:-0700
TZNAME:MST
DTSTART:20171105T080000
END:STANDARD
BEGIN:DAYLIGHT
TZOFFSETFROM:-0700
TZOFFSETTO:-0600
TZNAME:MDT
DTSTART:20180311T090000
END:DAYLIGHT
BEGIN:STANDARD
TZOFFSETFROM:-0600
TZOFFSETTO:-0700
TZNAME:MST
DTSTART:20181104T080000
END:STANDARD
BEGIN:DAYLIGHT
TZOFFSETFROM:-0700
TZOFFSETTO:-0600
TZNAME:MDT
DTSTART:20190310T090000
END:DAYLIGHT
BEGIN:STANDARD
TZOFFSETFROM:-0600
TZOFFSETTO:-0700
TZNAME:MST
DTSTART:20191103T080000
END:STANDARD
END:VTIMEZONE
BEGIN:VEVENT
DTSTART;TZID=America/Denver:20180905T073000
DTEND;TZID=America/Denver:20180905T091500
DTSTAMP:20260421T075343
CREATED:20180901T002722Z
LAST-MODIFIED:20180901T002722Z
UID:49467-1536132600-1536138900@rock31.org
SUMMARY:BSED Executive Committee Meeting
DESCRIPTION:Big Sky Economic Development \nExecutive Committee Meeting \nWednesday\, September 5\, 2018 \n7:30am – 9:15am \nRosebud Conference Room \n222 North 32nd Street\, Suite 200 \nCLICK HERE TO SEE THE MEETING AGENDA
URL:https://rock31.org/event/bsed-executive-committee-meeting-4/
LOCATION:Workspace
END:VEVENT
BEGIN:VEVENT
DTSTART;TZID=America/Denver:20180906T140000
DTEND;TZID=America/Denver:20180906T160000
DTSTAMP:20260421T075343
CREATED:20180831T154706Z
LAST-MODIFIED:20180831T154706Z
UID:49465-1536242400-1536249600@rock31.org
SUMMARY:Trademark Thursday
DESCRIPTION:Learn the ins and outs of obtaining a business name\, trademark selection and protection\, and intellectual property guidelines. \nTo Register call 869-8414\nCost is $35
URL:https://rock31.org/event/trademark-thursday-2/
LOCATION:Untitled
END:VEVENT
BEGIN:VEVENT
DTSTART;TZID=America/Denver:20180912T050000
DTEND;TZID=America/Denver:20180912T180000
DTSTAMP:20260421T075343
CREATED:20180831T154944Z
LAST-MODIFIED:20180831T154944Z
UID:49466-1536728400-1536775200@rock31.org
SUMMARY:MSUB Yellowstone Science and Allied Health Ground Breaking
DESCRIPTION:
URL:https://rock31.org/event/msub-yellowstone-science-and-allied-health-ground-breaking/
LOCATION:Untitled
END:VEVENT
BEGIN:VEVENT
DTSTART;TZID=America/Denver:20180913T080000
DTEND;TZID=America/Denver:20180913T093000
DTSTAMP:20260421T075343
CREATED:20180907T220711Z
LAST-MODIFIED:20180907T220711Z
UID:49468-1536825600-1536831000@rock31.org
SUMMARY:September 2018 Joint Board Meeting
DESCRIPTION:Yellowstone Conference Room – 222 North 32nd Street. Billings\, MT 59101 September Board Meeting Agenda Revised
URL:https://rock31.org/event/september-2018-joint-board-meeting/
LOCATION:Untitled
END:VEVENT
END:VCALENDAR