BEGIN:VCALENDAR
VERSION:2.0
PRODID:-//Rock31 - ECPv6.15.20//NONSGML v1.0//EN
CALSCALE:GREGORIAN
METHOD:PUBLISH
X-ORIGINAL-URL:https://rock31.org
X-WR-CALDESC:Events for Rock31
REFRESH-INTERVAL;VALUE=DURATION:PT1H
X-Robots-Tag:noindex
X-PUBLISHED-TTL:PT1H
BEGIN:VTIMEZONE
TZID:America/Denver
BEGIN:DAYLIGHT
TZOFFSETFROM:-0700
TZOFFSETTO:-0600
TZNAME:MDT
DTSTART:20170312T090000
END:DAYLIGHT
BEGIN:STANDARD
TZOFFSETFROM:-0600
TZOFFSETTO:-0700
TZNAME:MST
DTSTART:20171105T080000
END:STANDARD
BEGIN:DAYLIGHT
TZOFFSETFROM:-0700
TZOFFSETTO:-0600
TZNAME:MDT
DTSTART:20180311T090000
END:DAYLIGHT
BEGIN:STANDARD
TZOFFSETFROM:-0600
TZOFFSETTO:-0700
TZNAME:MST
DTSTART:20181104T080000
END:STANDARD
BEGIN:DAYLIGHT
TZOFFSETFROM:-0700
TZOFFSETTO:-0600
TZNAME:MDT
DTSTART:20190310T090000
END:DAYLIGHT
BEGIN:STANDARD
TZOFFSETFROM:-0600
TZOFFSETTO:-0700
TZNAME:MST
DTSTART:20191103T080000
END:STANDARD
END:VTIMEZONE
BEGIN:VEVENT
DTSTART;TZID=America/Denver:20180606T073000
DTEND;TZID=America/Denver:20180606T090000
DTSTAMP:20260421T125939
CREATED:20180601T211446Z
LAST-MODIFIED:20180601T211446Z
UID:49428-1528270200-1528275600@rock31.org
SUMMARY:June BSED Executive Commitee Meeting
DESCRIPTION:June 2018 EDA EDC Executive Committee Agenda
URL:https://rock31.org/event/june-bsed-executive-commitee-meeting/
END:VEVENT
BEGIN:VEVENT
DTSTART;TZID=America/Denver:20180611T143000
DTEND;TZID=America/Denver:20180611T163000
DTSTAMP:20260421T125939
CREATED:20160725T193157Z
LAST-MODIFIED:20160725T193157Z
UID:49400-1528727400-1528734600@rock31.org
SUMMARY:Grant Seeking and Proposal Writing Workshop
DESCRIPTION:Learn from the best! \nBig Sky Economic Development will present a free introductory workshop about the grant-seeking process on Monday afternoon\, from 2:30 – 4:30 p.m. at Big Sky Economic Development located on the second floor of Granite Tower\, 222 North 32nd Street in downtown Billings.  Community Development Director\, Dianne Lehm will help community groups learn the basics of the grants process\, types of grants\, and who might be eligible for grant funds.  Participants will also learn where to search for appropriate funding sources.  While there is no fee to attend\, pre-registration for the grants workshop is required and seating is limited to 15 attendees.  To reserve your place at the Grant Seeking Workshop scroll down and register online.  Please register at least one week prior to class. \nWorkshop instructors have years of successful grant writing experience\, and secure $2- to $3 million in funding for the community each year. Samples of successful proposals will be available for review during the workshop.  In ten-plus years of workshop presentations\, 100 percent of participants have stated\, “Yes\, I would recommend this workshop to others.” \nTO REGISTER Scroll to the bottom of page and enter your information. 
URL:https://rock31.org/event/grant-seeking-and-proposal-writing-workshop-5-2018-06-11/
LOCATION:Untitled
END:VEVENT
BEGIN:VEVENT
DTSTART;TZID=America/Denver:20180614T070000
DTEND;TZID=America/Denver:20180614T090000
DTSTAMP:20260421T125939
CREATED:20180608T195723Z
LAST-MODIFIED:20180608T195723Z
UID:49429-1528959600-1528966800@rock31.org
SUMMARY:BSED June 2018 Board Meeting
DESCRIPTION:June 2018 BSED Board Packet
URL:https://rock31.org/event/bsed-june-2018-board-meeting/
LOCATION:Untitled
END:VEVENT
BEGIN:VEVENT
DTSTART;TZID=America/Denver:20180614T130000
DTEND;TZID=America/Denver:20180614T190000
DTSTAMP:20260421T125939
CREATED:20180531T211330Z
LAST-MODIFIED:20180531T211330Z
UID:49427-1528981200-1529002800@rock31.org
SUMMARY:HRDC's 5th Annual Play Date at the Zoo - Volunteers Needed!
DESCRIPTION:Supporting and Strengthening Families – The purpose of this event it to provide a venue where families can spend quality time together and receive information regarding services available through Community Resources.  HRDC staff will share information about the services available to families and there will be several community partners available with information as well. . \nFace painting\, games\, scavenger hunt\, obstacle course\, snacks and more! \nThe event is free to the public and includes free admission to ZooMontana. \nCome join us for a day of fun! \n 
URL:https://rock31.org/event/hrdcs-5th-annual-play-date-at-the-zoo/
LOCATION:Untitled
END:VEVENT
BEGIN:VEVENT
DTSTART;TZID=America/Denver:20180619T073000
DTEND;TZID=America/Denver:20180619T100000
DTSTAMP:20260421T125939
CREATED:20180614T215301Z
LAST-MODIFIED:20180614T215301Z
UID:49430-1529393400-1529402400@rock31.org
SUMMARY:HVS Convention Center Study Presentation
DESCRIPTION:Register Here 
URL:https://rock31.org/event/hvs-convention-center-study-presentation/
LOCATION:Untitled
END:VEVENT
BEGIN:VEVENT
DTSTART;TZID=America/Denver:20180621T160000
DTEND;TZID=America/Denver:20180621T180000
DTSTAMP:20260421T125939
CREATED:20180620T200955Z
LAST-MODIFIED:20180620T200955Z
UID:49432-1529596800-1529604000@rock31.org
SUMMARY:Build it Billings! Barbeque
DESCRIPTION:We’re welcoming the public to our backyard in celebration of how close we are to completing the Yellowstone Science and Allied Health Building\, brick by brick. \nEnjoy free barbecue\, beer\, wine and ice cream\, and a ton of fun\, family-friendly activities. Reach the top of our climbing wall as we get closer to reaching the top of our goal – $5 million for the new facility. Accept the MSU Billings Chancellor’s challenge and ring the bell for a photo opp when you donate to the cause. \nSee you on the first day of summer for an evening of fun with the MSUB Foundation!
URL:https://rock31.org/event/build-it-billings-barbeque/
LOCATION:Untitled
END:VEVENT
BEGIN:VEVENT
DTSTART;TZID=America/Denver:20180621T170000
DTEND;TZID=America/Denver:20180621T200000
DTSTAMP:20260421T125939
CREATED:20180620T203700Z
LAST-MODIFIED:20180620T203700Z
UID:49433-1529600400-1529611200@rock31.org
SUMMARY:Alive After 5
DESCRIPTION:The Hellroaring at Last Chance Pub and Cider Mill
URL:https://rock31.org/event/alive-after-5/
LOCATION:Untitled
END:VEVENT
BEGIN:VEVENT
DTSTART;TZID=America/Denver:20180622T113000
DTEND;TZID=America/Denver:20180622T130000
DTSTAMP:20260421T125939
CREATED:20180620T191500Z
LAST-MODIFIED:20180620T191500Z
UID:49431-1529667000-1529672400@rock31.org
SUMMARY:BillingsWorks Workforce Council Meeting
DESCRIPTION:
URL:https://rock31.org/event/billingsworks-workforce-council-meeting-2/
LOCATION:Untitled
END:VEVENT
BEGIN:VEVENT
DTSTART;TZID=America/Denver:20180628T170000
DTEND;TZID=America/Denver:20180628T200000
DTSTAMP:20260421T125939
CREATED:20180620T204154Z
LAST-MODIFIED:20180620T204154Z
UID:49434-1530205200-1530216000@rock31.org
SUMMARY:Alive After 5
DESCRIPTION:Bucky Beaver Ground Grippers at Hooligan’s Sports Bar
URL:https://rock31.org/event/alive-after-5-2/
LOCATION:Untitled
END:VEVENT
END:VCALENDAR