BEGIN:VCALENDAR
VERSION:2.0
PRODID:-//Rock31 - ECPv6.15.20//NONSGML v1.0//EN
CALSCALE:GREGORIAN
METHOD:PUBLISH
X-ORIGINAL-URL:https://rock31.org
X-WR-CALDESC:Events for Rock31
REFRESH-INTERVAL;VALUE=DURATION:PT1H
X-Robots-Tag:noindex
X-PUBLISHED-TTL:PT1H
BEGIN:VTIMEZONE
TZID:America/Denver
BEGIN:DAYLIGHT
TZOFFSETFROM:-0700
TZOFFSETTO:-0600
TZNAME:MDT
DTSTART:20180311T090000
END:DAYLIGHT
BEGIN:STANDARD
TZOFFSETFROM:-0600
TZOFFSETTO:-0700
TZNAME:MST
DTSTART:20181104T080000
END:STANDARD
BEGIN:DAYLIGHT
TZOFFSETFROM:-0700
TZOFFSETTO:-0600
TZNAME:MDT
DTSTART:20190310T090000
END:DAYLIGHT
BEGIN:STANDARD
TZOFFSETFROM:-0600
TZOFFSETTO:-0700
TZNAME:MST
DTSTART:20191103T080000
END:STANDARD
BEGIN:DAYLIGHT
TZOFFSETFROM:-0700
TZOFFSETTO:-0600
TZNAME:MDT
DTSTART:20200308T090000
END:DAYLIGHT
BEGIN:STANDARD
TZOFFSETFROM:-0600
TZOFFSETTO:-0700
TZNAME:MST
DTSTART:20201101T080000
END:STANDARD
BEGIN:DAYLIGHT
TZOFFSETFROM:-0700
TZOFFSETTO:-0600
TZNAME:MDT
DTSTART:20210314T090000
END:DAYLIGHT
BEGIN:STANDARD
TZOFFSETFROM:-0600
TZOFFSETTO:-0700
TZNAME:MST
DTSTART:20211107T080000
END:STANDARD
END:VTIMEZONE
BEGIN:VEVENT
DTSTART;TZID=America/Denver:20200910T070000
DTEND;TZID=America/Denver:20200910T090000
DTSTAMP:20260422T155759
CREATED:20200109T151432Z
LAST-MODIFIED:20200109T151432Z
UID:49698-1599721200-1599728400@rock31.org
SUMMARY:BSED September 2020 Board Meeting
DESCRIPTION:September 2020 Board Packet \nDue to social distancing\, physical attendance at the meeting is limited to the Board and BSED staff. Please join us via Zoom (audio only) by emailing rsvp@bigskyeda.org for Zoom meeting link and password.
URL:https://rock31.org/event/bsed-september-2020-board-meeting/
LOCATION:Untitled
END:VEVENT
BEGIN:VEVENT
DTSTART;TZID=America/Denver:20200722T090000
DTEND;TZID=America/Denver:20200722T100000
DTSTAMP:20260422T155759
CREATED:20191016T165721Z
LAST-MODIFIED:20191016T165721Z
UID:49639-1595408400-1595412000@rock31.org
SUMMARY:1 Million Cups Billings
DESCRIPTION:“What can we\, as a community\, do to help you and your startup?” Join us for the next 1MC monthly meetup! \nAs always\, we will feature presentations from 2 startups at different stages in growth and then you’ll have a chance to ask questions and provide feedback through 15-20 minutes of Q&A. \nDoors open at 8:30am for coffee and conversation | Program begins at 9:00am.
URL:https://rock31.org/event/1-million-cups-billings-2020-07-22/
LOCATION:Untitled
ATTACH;FMTTYPE=:
END:VEVENT
BEGIN:VEVENT
DTSTART;TZID=America/Denver:20191030T090000
DTEND;TZID=America/Denver:20191030T100000
DTSTAMP:20260422T155759
CREATED:20191016T165721Z
LAST-MODIFIED:20191016T165721Z
UID:49603-1572426000-1572429600@rock31.org
SUMMARY:1 Million Cups Billings
DESCRIPTION:“What can we\, as a community\, do to help you and your startup?” Join us for the next 1MC monthly meetup! \nAs always\, we will feature presentations from 2 startups at different stages in growth and then you’ll have a chance to ask questions and provide feedback through 15-20 minutes of Q&A. \nDoors open at 8:30am for coffee and conversation | Program begins at 9:00am.
URL:https://rock31.org/event/1-million-cups-billings-2019-10-30/
LOCATION:Untitled
ATTACH;FMTTYPE=:
END:VEVENT
BEGIN:VEVENT
DTSTART;TZID=America/Denver:20191204T090000
DTEND;TZID=America/Denver:20191204T100000
DTSTAMP:20260422T155759
CREATED:20191016T165721Z
LAST-MODIFIED:20191016T165721Z
UID:49608-1575450000-1575453600@rock31.org
SUMMARY:1 Million Cups Billings
DESCRIPTION:“What can we\, as a community\, do to help you and your startup?” Join us for the next 1MC monthly meetup! \nAs always\, we will feature presentations from 2 startups at different stages in growth and then you’ll have a chance to ask questions and provide feedback through 15-20 minutes of Q&A. \nDoors open at 8:30am for coffee and conversation | Program begins at 9:00am.
URL:https://rock31.org/event/1-million-cups-billings-2019-12-04/
LOCATION:Untitled
ATTACH;FMTTYPE=:
END:VEVENT
BEGIN:VEVENT
DTSTART;TZID=America/Denver:20200603T090000
DTEND;TZID=America/Denver:20200603T100000
DTSTAMP:20260422T155759
CREATED:20191016T165721Z
LAST-MODIFIED:20191016T165721Z
UID:49632-1591174800-1591178400@rock31.org
SUMMARY:1 Million Cups Billings
DESCRIPTION:“What can we\, as a community\, do to help you and your startup?” Join us for the next 1MC monthly meetup! \nAs always\, we will feature presentations from 2 startups at different stages in growth and then you’ll have a chance to ask questions and provide feedback through 15-20 minutes of Q&A. \nDoors open at 8:30am for coffee and conversation | Program begins at 9:00am.
URL:https://rock31.org/event/1-million-cups-billings-2020-06-03/
LOCATION:Untitled
ATTACH;FMTTYPE=:
END:VEVENT
BEGIN:VEVENT
DTSTART;TZID=America/Denver:20200304T090000
DTEND;TZID=America/Denver:20200304T100000
DTSTAMP:20260422T155759
CREATED:20191016T165721Z
LAST-MODIFIED:20191016T165721Z
UID:49621-1583312400-1583316000@rock31.org
SUMMARY:1 Million Cups Billings
DESCRIPTION:“What can we\, as a community\, do to help you and your startup?” Join us for the next 1MC monthly meetup! \nAs always\, we will feature presentations from 2 startups at different stages in growth and then you’ll have a chance to ask questions and provide feedback through 15-20 minutes of Q&A. \nDoors open at 8:30am for coffee and conversation | Program begins at 9:00am.
URL:https://rock31.org/event/1-million-cups-billings-2020-03-04/
LOCATION:Untitled
ATTACH;FMTTYPE=:
END:VEVENT
BEGIN:VEVENT
DTSTART;TZID=America/Denver:20200311T090000
DTEND;TZID=America/Denver:20200311T100000
DTSTAMP:20260422T155759
CREATED:20191016T165721Z
LAST-MODIFIED:20191016T165721Z
UID:49622-1583917200-1583920800@rock31.org
SUMMARY:1 Million Cups Billings
DESCRIPTION:“What can we\, as a community\, do to help you and your startup?” Join us for the next 1MC monthly meetup! \nAs always\, we will feature presentations from 2 startups at different stages in growth and then you’ll have a chance to ask questions and provide feedback through 15-20 minutes of Q&A. \nDoors open at 8:30am for coffee and conversation | Program begins at 9:00am.
URL:https://rock31.org/event/1-million-cups-billings-2020-03-11/
LOCATION:Untitled
ATTACH;FMTTYPE=:
END:VEVENT
BEGIN:VEVENT
DTSTART;TZID=America/Denver:20200624T090000
DTEND;TZID=America/Denver:20200624T100000
DTSTAMP:20260422T155759
CREATED:20191016T165721Z
LAST-MODIFIED:20191016T165721Z
UID:49635-1592989200-1592992800@rock31.org
SUMMARY:1 Million Cups Billings
DESCRIPTION:“What can we\, as a community\, do to help you and your startup?” Join us for the next 1MC monthly meetup! \nAs always\, we will feature presentations from 2 startups at different stages in growth and then you’ll have a chance to ask questions and provide feedback through 15-20 minutes of Q&A. \nDoors open at 8:30am for coffee and conversation | Program begins at 9:00am.
URL:https://rock31.org/event/1-million-cups-billings-2020-06-24/
LOCATION:Untitled
ATTACH;FMTTYPE=:
END:VEVENT
BEGIN:VEVENT
DTSTART;TZID=America/Denver:20200701T090000
DTEND;TZID=America/Denver:20200701T100000
DTSTAMP:20260422T155759
CREATED:20191016T165721Z
LAST-MODIFIED:20191016T165721Z
UID:49636-1593594000-1593597600@rock31.org
SUMMARY:1 Million Cups Billings
DESCRIPTION:“What can we\, as a community\, do to help you and your startup?” Join us for the next 1MC monthly meetup! \nAs always\, we will feature presentations from 2 startups at different stages in growth and then you’ll have a chance to ask questions and provide feedback through 15-20 minutes of Q&A. \nDoors open at 8:30am for coffee and conversation | Program begins at 9:00am.
URL:https://rock31.org/event/1-million-cups-billings-2020-07-01/
LOCATION:Untitled
ATTACH;FMTTYPE=:
END:VEVENT
BEGIN:VEVENT
DTSTART;TZID=America/Denver:20200122T090000
DTEND;TZID=America/Denver:20200122T100000
DTSTAMP:20260422T155759
CREATED:20191016T165721Z
LAST-MODIFIED:20191016T165721Z
UID:49615-1579683600-1579687200@rock31.org
SUMMARY:1 Million Cups Billings
DESCRIPTION:“What can we\, as a community\, do to help you and your startup?” Join us for the next 1MC monthly meetup! \nAs always\, we will feature presentations from 2 startups at different stages in growth and then you’ll have a chance to ask questions and provide feedback through 15-20 minutes of Q&A. \nDoors open at 8:30am for coffee and conversation | Program begins at 9:00am.
URL:https://rock31.org/event/1-million-cups-billings-2020-01-22/
LOCATION:Untitled
ATTACH;FMTTYPE=:
END:VEVENT
BEGIN:VEVENT
DTSTART;TZID=America/Denver:20200916T090000
DTEND;TZID=America/Denver:20200916T100000
DTSTAMP:20260422T155759
CREATED:20191016T165721Z
LAST-MODIFIED:20191016T165721Z
UID:51174-1600246800-1600250400@rock31.org
SUMMARY:1 Million Cups Billings
DESCRIPTION:“What can we\, as a community\, do to help you and your startup?” Join us for the next 1MC monthly meetup! \nAs always\, we will feature presentations from 2 startups at different stages in growth and then you’ll have a chance to ask questions and provide feedback through 15-20 minutes of Q&A. \nDoors open at 8:30am for coffee and conversation | Program begins at 9:00am.
URL:https://rock31.org/event/1-million-cups-billings-2020-09-16-2/
LOCATION:Untitled
ATTACH;FMTTYPE=:
END:VEVENT
BEGIN:VEVENT
DTSTART;TZID=America/Denver:20200812T090000
DTEND;TZID=America/Denver:20200812T100000
DTSTAMP:20260422T155759
CREATED:20191016T165721Z
LAST-MODIFIED:20191016T165721Z
UID:49642-1597222800-1597226400@rock31.org
SUMMARY:1 Million Cups Billings
DESCRIPTION:“What can we\, as a community\, do to help you and your startup?” Join us for the next 1MC monthly meetup! \nAs always\, we will feature presentations from 2 startups at different stages in growth and then you’ll have a chance to ask questions and provide feedback through 15-20 minutes of Q&A. \nDoors open at 8:30am for coffee and conversation | Program begins at 9:00am.
URL:https://rock31.org/event/1-million-cups-billings-2020-08-12/
LOCATION:Untitled
ATTACH;FMTTYPE=:
END:VEVENT
BEGIN:VEVENT
DTSTART;TZID=America/Denver:20200205T090000
DTEND;TZID=America/Denver:20200205T100000
DTSTAMP:20260422T155759
CREATED:20191016T165721Z
LAST-MODIFIED:20191016T165721Z
UID:49617-1580893200-1580896800@rock31.org
SUMMARY:1 Million Cups Billings
DESCRIPTION:“What can we\, as a community\, do to help you and your startup?” Join us for the next 1MC monthly meetup! \nAs always\, we will feature presentations from 2 startups at different stages in growth and then you’ll have a chance to ask questions and provide feedback through 15-20 minutes of Q&A. \nDoors open at 8:30am for coffee and conversation | Program begins at 9:00am.
URL:https://rock31.org/event/1-million-cups-billings-2020-02-05/
LOCATION:Untitled
ATTACH;FMTTYPE=:
END:VEVENT
BEGIN:VEVENT
DTSTART;TZID=America/Denver:20200513T090000
DTEND;TZID=America/Denver:20200513T100000
DTSTAMP:20260422T155759
CREATED:20191016T165721Z
LAST-MODIFIED:20191016T165721Z
UID:49629-1589360400-1589364000@rock31.org
SUMMARY:1 Million Cups Billings
DESCRIPTION:“What can we\, as a community\, do to help you and your startup?” Join us for the next 1MC monthly meetup! \nAs always\, we will feature presentations from 2 startups at different stages in growth and then you’ll have a chance to ask questions and provide feedback through 15-20 minutes of Q&A. \nDoors open at 8:30am for coffee and conversation | Program begins at 9:00am.
URL:https://rock31.org/event/1-million-cups-billings-2020-05-13/
LOCATION:Untitled
ATTACH;FMTTYPE=:
END:VEVENT
BEGIN:VEVENT
DTSTART;TZID=America/Denver:20200729T090000
DTEND;TZID=America/Denver:20200729T100000
DTSTAMP:20260422T155759
CREATED:20191016T165721Z
LAST-MODIFIED:20191016T165721Z
UID:49640-1596013200-1596016800@rock31.org
SUMMARY:1 Million Cups Billings
DESCRIPTION:“What can we\, as a community\, do to help you and your startup?” Join us for the next 1MC monthly meetup! \nAs always\, we will feature presentations from 2 startups at different stages in growth and then you’ll have a chance to ask questions and provide feedback through 15-20 minutes of Q&A. \nDoors open at 8:30am for coffee and conversation | Program begins at 9:00am.
URL:https://rock31.org/event/1-million-cups-billings-2020-07-29/
LOCATION:Untitled
ATTACH;FMTTYPE=:
END:VEVENT
BEGIN:VEVENT
DTSTART;TZID=America/Denver:20200129T090000
DTEND;TZID=America/Denver:20200129T100000
DTSTAMP:20260422T155759
CREATED:20191016T165721Z
LAST-MODIFIED:20191016T165721Z
UID:49616-1580288400-1580292000@rock31.org
SUMMARY:1 Million Cups Billings
DESCRIPTION:“What can we\, as a community\, do to help you and your startup?” Join us for the next 1MC monthly meetup! \nAs always\, we will feature presentations from 2 startups at different stages in growth and then you’ll have a chance to ask questions and provide feedback through 15-20 minutes of Q&A. \nDoors open at 8:30am for coffee and conversation | Program begins at 9:00am.
URL:https://rock31.org/event/1-million-cups-billings-2020-01-29/
LOCATION:Untitled
ATTACH;FMTTYPE=:
END:VEVENT
BEGIN:VEVENT
DTSTART;TZID=America/Denver:20200527T090000
DTEND;TZID=America/Denver:20200527T100000
DTSTAMP:20260422T155759
CREATED:20191016T165721Z
LAST-MODIFIED:20191016T165721Z
UID:49631-1590570000-1590573600@rock31.org
SUMMARY:1 Million Cups Billings
DESCRIPTION:“What can we\, as a community\, do to help you and your startup?” Join us for the next 1MC monthly meetup! \nAs always\, we will feature presentations from 2 startups at different stages in growth and then you’ll have a chance to ask questions and provide feedback through 15-20 minutes of Q&A. \nDoors open at 8:30am for coffee and conversation | Program begins at 9:00am.
URL:https://rock31.org/event/1-million-cups-billings-2020-05-27/
LOCATION:Untitled
ATTACH;FMTTYPE=:
END:VEVENT
BEGIN:VEVENT
DTSTART;TZID=America/Denver:20200108T090000
DTEND;TZID=America/Denver:20200108T100000
DTSTAMP:20260422T155759
CREATED:20191016T165721Z
LAST-MODIFIED:20191016T165721Z
UID:49613-1578474000-1578477600@rock31.org
SUMMARY:1 Million Cups Billings
DESCRIPTION:“What can we\, as a community\, do to help you and your startup?” Join us for the next 1MC monthly meetup! \nAs always\, we will feature presentations from 2 startups at different stages in growth and then you’ll have a chance to ask questions and provide feedback through 15-20 minutes of Q&A. \nDoors open at 8:30am for coffee and conversation | Program begins at 9:00am.
URL:https://rock31.org/event/1-million-cups-billings-2020-01-08/
LOCATION:Untitled
ATTACH;FMTTYPE=:
END:VEVENT
BEGIN:VEVENT
DTSTART;TZID=America/Denver:20200805T090000
DTEND;TZID=America/Denver:20200805T100000
DTSTAMP:20260422T155759
CREATED:20191016T165721Z
LAST-MODIFIED:20191016T165721Z
UID:49641-1596618000-1596621600@rock31.org
SUMMARY:1 Million Cups Billings
DESCRIPTION:“What can we\, as a community\, do to help you and your startup?” Join us for the next 1MC monthly meetup! \nAs always\, we will feature presentations from 2 startups at different stages in growth and then you’ll have a chance to ask questions and provide feedback through 15-20 minutes of Q&A. \nDoors open at 8:30am for coffee and conversation | Program begins at 9:00am.
URL:https://rock31.org/event/1-million-cups-billings-2020-08-05/
LOCATION:Untitled
ATTACH;FMTTYPE=:
END:VEVENT
BEGIN:VEVENT
DTSTART;TZID=America/Denver:20200520T090000
DTEND;TZID=America/Denver:20200520T100000
DTSTAMP:20260422T155759
CREATED:20191016T165721Z
LAST-MODIFIED:20191016T165721Z
UID:49630-1589965200-1589968800@rock31.org
SUMMARY:1 Million Cups Billings
DESCRIPTION:“What can we\, as a community\, do to help you and your startup?” Join us for the next 1MC monthly meetup! \nAs always\, we will feature presentations from 2 startups at different stages in growth and then you’ll have a chance to ask questions and provide feedback through 15-20 minutes of Q&A. \nDoors open at 8:30am for coffee and conversation | Program begins at 9:00am.
URL:https://rock31.org/event/1-million-cups-billings-2020-05-20/
LOCATION:Untitled
ATTACH;FMTTYPE=:
END:VEVENT
BEGIN:VEVENT
DTSTART;TZID=America/Denver:20200826T090000
DTEND;TZID=America/Denver:20200826T100000
DTSTAMP:20260422T155759
CREATED:20191016T165721Z
LAST-MODIFIED:20191016T165721Z
UID:49644-1598432400-1598436000@rock31.org
SUMMARY:1 Million Cups Billings
DESCRIPTION:“What can we\, as a community\, do to help you and your startup?” Join us for the next 1MC monthly meetup! \nAs always\, we will feature presentations from 2 startups at different stages in growth and then you’ll have a chance to ask questions and provide feedback through 15-20 minutes of Q&A. \nDoors open at 8:30am for coffee and conversation | Program begins at 9:00am.
URL:https://rock31.org/event/1-million-cups-billings-2020-08-26/
LOCATION:Untitled
ATTACH;FMTTYPE=:
END:VEVENT
BEGIN:VEVENT
DTSTART;TZID=America/Denver:20191106T090000
DTEND;TZID=America/Denver:20191106T100000
DTSTAMP:20260422T155759
CREATED:20191016T165721Z
LAST-MODIFIED:20191016T165721Z
UID:49604-1573030800-1573034400@rock31.org
SUMMARY:1 Million Cups Billings
DESCRIPTION:“What can we\, as a community\, do to help you and your startup?” Join us for the next 1MC monthly meetup! \nAs always\, we will feature presentations from 2 startups at different stages in growth and then you’ll have a chance to ask questions and provide feedback through 15-20 minutes of Q&A. \nDoors open at 8:30am for coffee and conversation | Program begins at 9:00am.
URL:https://rock31.org/event/1-million-cups-billings-2019-11-06/
LOCATION:Untitled
ATTACH;FMTTYPE=:
END:VEVENT
BEGIN:VEVENT
DTSTART;TZID=America/Denver:20200429T090000
DTEND;TZID=America/Denver:20200429T100000
DTSTAMP:20260422T155759
CREATED:20191016T165721Z
LAST-MODIFIED:20191016T165721Z
UID:49627-1588150800-1588154400@rock31.org
SUMMARY:1 Million Cups Billings
DESCRIPTION:“What can we\, as a community\, do to help you and your startup?” Join us for the next 1MC meetup! \nAs always\, we will feature presentations from 2 startups at different stages in growth and then you’ll have a chance to ask questions and provide feedback through 15-20 minutes of Q&A. \nProgram begins at 9:00am. \nTopic: 1 Millions Cups – Billings Virtual Meetup \nEvery week on Wed\nWeekly: https://zoom.us/meeting/uZEoceuuqz8qXF0bd8YDrcb-OiKZDsRr4w/ics?icsToken=98tyKu2tqz0oHNGRsFztd6kqE5n4b-G5k0lo-qFZxCbBESNRLyz_HdhmIYBtRM-B \nJoin Zoom Meeting\nhttps://zoom.us/j/455626540 \nMeeting ID: 455 626 540 \nOne tap mobile\n+13462487799\,\,455626540# US (Houston)\n+16699006833\,\,455626540# US (San Jose) \nDial by your location\n+1 346 248 7799 US (Houston)\n+1 669 900 6833 US (San Jose)\n+1 253 215 8782 US\n+1 301 715 8592 US\n+1 312 626 6799 US (Chicago)\n+1 929 436 2866 US (New York)\nMeeting ID: 455 626 540\nFind your local number: https://zoom.us/u/aNKpGdr6d \n 
URL:https://rock31.org/event/1-million-cups-billings-2020-04-29/
LOCATION:Untitled
ATTACH;FMTTYPE=:
END:VEVENT
BEGIN:VEVENT
DTSTART;TZID=America/Denver:20191127T090000
DTEND;TZID=America/Denver:20191127T100000
DTSTAMP:20260422T155759
CREATED:20191016T165721Z
LAST-MODIFIED:20191016T165721Z
UID:49607-1574845200-1574848800@rock31.org
SUMMARY:1 Million Cups Billings
DESCRIPTION:“What can we\, as a community\, do to help you and your startup?” Join us for the next 1MC monthly meetup! \nAs always\, we will feature presentations from 2 startups at different stages in growth and then you’ll have a chance to ask questions and provide feedback through 15-20 minutes of Q&A. \nDoors open at 8:30am for coffee and conversation | Program begins at 9:00am.
URL:https://rock31.org/event/1-million-cups-billings-2019-11-27/
LOCATION:Untitled
ATTACH;FMTTYPE=:
END:VEVENT
BEGIN:VEVENT
DTSTART;TZID=America/Denver:20191023T090000
DTEND;TZID=America/Denver:20191023T100000
DTSTAMP:20260422T155759
CREATED:20191016T165721Z
LAST-MODIFIED:20191016T165721Z
UID:49602-1571821200-1571824800@rock31.org
SUMMARY:1 Million Cups Billings
DESCRIPTION:“What can we\, as a community\, do to help you and your startup?” Join us for the next 1MC monthly meetup! \nAs always\, we will feature presentations from 2 startups at different stages in growth and then you’ll have a chance to ask questions and provide feedback through 15-20 minutes of Q&A. \nDoors open at 8:30am for coffee and conversation | Program begins at 9:00am.
URL:https://rock31.org/event/1-million-cups-billings-2019-10-23/
LOCATION:Untitled
ATTACH;FMTTYPE=:
END:VEVENT
BEGIN:VEVENT
DTSTART;TZID=America/Denver:20191211T090000
DTEND;TZID=America/Denver:20191211T100000
DTSTAMP:20260422T155759
CREATED:20191016T165721Z
LAST-MODIFIED:20191016T165721Z
UID:49609-1576054800-1576058400@rock31.org
SUMMARY:1 Million Cups Billings
DESCRIPTION:“What can we\, as a community\, do to help you and your startup?” Join us for the next 1MC monthly meetup! \nAs always\, we will feature presentations from 2 startups at different stages in growth and then you’ll have a chance to ask questions and provide feedback through 15-20 minutes of Q&A. \nDoors open at 8:30am for coffee and conversation | Program begins at 9:00am.
URL:https://rock31.org/event/1-million-cups-billings-2019-12-11/
LOCATION:Untitled
ATTACH;FMTTYPE=:
END:VEVENT
BEGIN:VEVENT
DTSTART;TZID=America/Denver:20200219T090000
DTEND;TZID=America/Denver:20200219T100000
DTSTAMP:20260422T155759
CREATED:20191016T165721Z
LAST-MODIFIED:20191016T165721Z
UID:49619-1582102800-1582106400@rock31.org
SUMMARY:1 Million Cups Billings
DESCRIPTION:“What can we\, as a community\, do to help you and your startup?” Join us for the next 1MC monthly meetup! \nAs always\, we will feature presentations from 2 startups at different stages in growth and then you’ll have a chance to ask questions and provide feedback through 15-20 minutes of Q&A. \nDoors open at 8:30am for coffee and conversation | Program begins at 9:00am.
URL:https://rock31.org/event/1-million-cups-billings-2020-02-19/
LOCATION:Untitled
ATTACH;FMTTYPE=:
END:VEVENT
BEGIN:VEVENT
DTSTART;TZID=America/Denver:20200401T090000
DTEND;TZID=America/Denver:20200401T100000
DTSTAMP:20260422T155759
CREATED:20191016T165721Z
LAST-MODIFIED:20191016T165721Z
UID:49623-1585731600-1585735200@rock31.org
SUMMARY:1 Million Cups Billings
DESCRIPTION:“What can we\, as a community\, do to help you and your startup?” Join us for the next 1MC meetup! \nAs always\, we will feature presentations from 2 startups at different stages in growth and then you’ll have a chance to ask questions and provide feedback through 15-20 minutes of Q&A. \nProgram begins at 9:00am. \nTopic: 1 Millions Cups – Billings Virtual Meetup \nEvery week on Wed\nWeekly: https://zoom.us/meeting/uZEoceuuqz8qXF0bd8YDrcb-OiKZDsRr4w/ics?icsToken=98tyKu2tqz0oHNGRsFztd6kqE5n4b-G5k0lo-qFZxCbBESNRLyz_HdhmIYBtRM-B \nJoin Zoom Meeting\nhttps://zoom.us/j/455626540 \nMeeting ID: 455 626 540 \nOne tap mobile\n+13462487799\,\,455626540# US (Houston)\n+16699006833\,\,455626540# US (San Jose) \nDial by your location\n+1 346 248 7799 US (Houston)\n+1 669 900 6833 US (San Jose)\n+1 253 215 8782 US\n+1 301 715 8592 US\n+1 312 626 6799 US (Chicago)\n+1 929 436 2866 US (New York)\nMeeting ID: 455 626 540\nFind your local number: https://zoom.us/u/aNKpGdr6d \n 
URL:https://rock31.org/event/1-million-cups-billings-2020-04-01/
LOCATION:Untitled
ATTACH;FMTTYPE=:
END:VEVENT
BEGIN:VEVENT
DTSTART;TZID=America/Denver:20200715T090000
DTEND;TZID=America/Denver:20200715T100000
DTSTAMP:20260422T155759
CREATED:20191016T165721Z
LAST-MODIFIED:20191016T165721Z
UID:49638-1594803600-1594807200@rock31.org
SUMMARY:1 Million Cups Billings
DESCRIPTION:“What can we\, as a community\, do to help you and your startup?” Join us for the next 1MC monthly meetup! \nAs always\, we will feature presentations from 2 startups at different stages in growth and then you’ll have a chance to ask questions and provide feedback through 15-20 minutes of Q&A. \nDoors open at 8:30am for coffee and conversation | Program begins at 9:00am.
URL:https://rock31.org/event/1-million-cups-billings-2020-07-15/
LOCATION:Untitled
ATTACH;FMTTYPE=:
END:VEVENT
BEGIN:VEVENT
DTSTART;TZID=America/Denver:20191113T090000
DTEND;TZID=America/Denver:20191113T100000
DTSTAMP:20260422T155759
CREATED:20191016T165721Z
LAST-MODIFIED:20191016T165721Z
UID:49605-1573635600-1573639200@rock31.org
SUMMARY:1 Million Cups Billings
DESCRIPTION:“What can we\, as a community\, do to help you and your startup?” Join us for the next 1MC monthly meetup! \nAs always\, we will feature presentations from 2 startups at different stages in growth and then you’ll have a chance to ask questions and provide feedback through 15-20 minutes of Q&A. \nDoors open at 8:30am for coffee and conversation | Program begins at 9:00am.
URL:https://rock31.org/event/1-million-cups-billings-2019-11-13/
LOCATION:Untitled
ATTACH;FMTTYPE=:
END:VEVENT
END:VCALENDAR