BEGIN:VCALENDAR
VERSION:2.0
PRODID:-//Rock31 - ECPv6.15.20//NONSGML v1.0//EN
CALSCALE:GREGORIAN
METHOD:PUBLISH
X-WR-CALNAME:Rock31
X-ORIGINAL-URL:https://rock31.org
X-WR-CALDESC:Events for Rock31
REFRESH-INTERVAL;VALUE=DURATION:PT1H
X-Robots-Tag:noindex
X-PUBLISHED-TTL:PT1H
BEGIN:VTIMEZONE
TZID:America/Denver
BEGIN:DAYLIGHT
TZOFFSETFROM:-0700
TZOFFSETTO:-0600
TZNAME:MDT
DTSTART:20190310T090000
END:DAYLIGHT
BEGIN:STANDARD
TZOFFSETFROM:-0600
TZOFFSETTO:-0700
TZNAME:MST
DTSTART:20191103T080000
END:STANDARD
BEGIN:DAYLIGHT
TZOFFSETFROM:-0700
TZOFFSETTO:-0600
TZNAME:MDT
DTSTART:20200308T090000
END:DAYLIGHT
BEGIN:STANDARD
TZOFFSETFROM:-0600
TZOFFSETTO:-0700
TZNAME:MST
DTSTART:20201101T080000
END:STANDARD
BEGIN:DAYLIGHT
TZOFFSETFROM:-0700
TZOFFSETTO:-0600
TZNAME:MDT
DTSTART:20210314T090000
END:DAYLIGHT
BEGIN:STANDARD
TZOFFSETFROM:-0600
TZOFFSETTO:-0700
TZNAME:MST
DTSTART:20211107T080000
END:STANDARD
END:VTIMEZONE
BEGIN:VEVENT
DTSTART;TZID=America/Denver:20200225T100000
DTEND;TZID=America/Denver:20200225T120000
DTSTAMP:20260421T065605
CREATED:20200123T181847Z
LAST-MODIFIED:20200123T181847Z
UID:49709-1582624800-1582632000@rock31.org
SUMMARY:Building your Brand-Entrepreneur Academy
DESCRIPTION:Importance of Brand Identity and why branding your business can set your company apart from the competition and grow your market potential. \nCost: $29. Space is limited. \nTo register: Click Here  \nIf you would like to register for the full Entrepreneur Academy-> Click Here.
URL:https://rock31.org/event/building-your-brand-entrepreneur-academy/
END:VEVENT
END:VCALENDAR