BEGIN:VCALENDAR
VERSION:2.0
PRODID:-//Rock31 - ECPv6.15.20//NONSGML v1.0//EN
CALSCALE:GREGORIAN
METHOD:PUBLISH
X-ORIGINAL-URL:https://rock31.org
X-WR-CALDESC:Events for Rock31
REFRESH-INTERVAL;VALUE=DURATION:PT1H
X-Robots-Tag:noindex
X-PUBLISHED-TTL:PT1H
BEGIN:VTIMEZONE
TZID:America/Denver
BEGIN:DAYLIGHT
TZOFFSETFROM:-0700
TZOFFSETTO:-0600
TZNAME:MDT
DTSTART:20180311T090000
END:DAYLIGHT
BEGIN:STANDARD
TZOFFSETFROM:-0600
TZOFFSETTO:-0700
TZNAME:MST
DTSTART:20181104T080000
END:STANDARD
BEGIN:DAYLIGHT
TZOFFSETFROM:-0700
TZOFFSETTO:-0600
TZNAME:MDT
DTSTART:20190310T090000
END:DAYLIGHT
BEGIN:STANDARD
TZOFFSETFROM:-0600
TZOFFSETTO:-0700
TZNAME:MST
DTSTART:20191103T080000
END:STANDARD
BEGIN:DAYLIGHT
TZOFFSETFROM:-0700
TZOFFSETTO:-0600
TZNAME:MDT
DTSTART:20200308T090000
END:DAYLIGHT
BEGIN:STANDARD
TZOFFSETFROM:-0600
TZOFFSETTO:-0700
TZNAME:MST
DTSTART:20201101T080000
END:STANDARD
END:VTIMEZONE
BEGIN:VEVENT
DTSTART;TZID=America/Denver:20190228T150000
DTEND;TZID=America/Denver:20190228T170000
DTSTAMP:20260421T024430
CREATED:20190123T203837Z
LAST-MODIFIED:20190123T203837Z
UID:49497-1551366000-1551373200@rock31.org
SUMMARY:NextGEN: Professional Development Series Session 2
DESCRIPTION:The NextGEN Learn Action Team announces the 2019 Professional Development Series. This year’s focus will be on Paving Your Path to Success. NextGEN members recognize that success is no longer a game of chance – this series will include sessions on personal brand development\, working creatively and collaboratively\, and learning from others. \nCost to participate is $25/session or $100 for all five. Locations for the other sessions will be announced soon\, but you can register now by clicking below. Then\, mark your calendars for the session dates/times: \n– February 28; 3 pm – 5 pm: Practicing Gracious Space- Held at Big Sky Economic Development in the first floor conference room\n– March 21; 3-5 pm: Guiding Courageous Collaboration with Gracious Space\n– April 23; 10 am – 12 pm: The Journey Continues – Gracious Space Part 2\n– May 21; 3-5 pm: A View From the Top – CEO Panel – Explore what it takes to successfully lead businesses and organizations
URL:https://rock31.org/event/nextgen-professional-development-series-session-2/
LOCATION:Untitled
ATTACH;FMTTYPE=:
END:VEVENT
END:VCALENDAR