BEGIN:VCALENDAR
VERSION:2.0
PRODID:-//Rock31 - ECPv6.15.20//NONSGML v1.0//EN
CALSCALE:GREGORIAN
METHOD:PUBLISH
X-ORIGINAL-URL:https://rock31.org
X-WR-CALDESC:Events for Rock31
REFRESH-INTERVAL;VALUE=DURATION:PT1H
X-Robots-Tag:noindex
X-PUBLISHED-TTL:PT1H
BEGIN:VTIMEZONE
TZID:America/Denver
BEGIN:DAYLIGHT
TZOFFSETFROM:-0700
TZOFFSETTO:-0600
TZNAME:MDT
DTSTART:20180311T090000
END:DAYLIGHT
BEGIN:STANDARD
TZOFFSETFROM:-0600
TZOFFSETTO:-0700
TZNAME:MST
DTSTART:20181104T080000
END:STANDARD
BEGIN:DAYLIGHT
TZOFFSETFROM:-0700
TZOFFSETTO:-0600
TZNAME:MDT
DTSTART:20190310T090000
END:DAYLIGHT
BEGIN:STANDARD
TZOFFSETFROM:-0600
TZOFFSETTO:-0700
TZNAME:MST
DTSTART:20191103T080000
END:STANDARD
BEGIN:DAYLIGHT
TZOFFSETFROM:-0700
TZOFFSETTO:-0600
TZNAME:MDT
DTSTART:20200308T090000
END:DAYLIGHT
BEGIN:STANDARD
TZOFFSETFROM:-0600
TZOFFSETTO:-0700
TZNAME:MST
DTSTART:20201101T080000
END:STANDARD
END:VTIMEZONE
BEGIN:VEVENT
DTSTART;TZID=America/Denver:20190219T130000
DTEND;TZID=America/Denver:20190219T140000
DTSTAMP:20260421T024456
CREATED:20190208T225605Z
LAST-MODIFIED:20190208T225605Z
UID:49504-1550581200-1550584800@rock31.org
SUMMARY:Mandatory Meeting for Participants of the RFP for Office Space Purchase
DESCRIPTION:The Board of Big Sky Economic Development (BSED) is currently requesting proposals from qualified firms for the sale of an existing building or sale of a condominium of a minimum of 15\, 000 usable square feet existing or attainable with modification. \nAll participants must attend a mandatory meeting on Tuesday\, February 19\, 2019 at 1:00 p.m. held at Big Sky Economic Development\, 222 N. 32nd Street\, Suite 200\, in the Yellowstone Conference Room. Participants may attend via conference call if requested in advance. \nFor questions\, please contact Becky Rogers\, Operations Director\, at becky@bigskyeda.org. \nCLICK HERE TO VIEW THE FULL RFP
URL:https://rock31.org/event/mandatory-meeting-for-participants-of-the-rfp-for-office-space-purchase/
END:VEVENT
END:VCALENDAR