BEGIN:VCALENDAR
VERSION:2.0
PRODID:-//Rock31 - ECPv6.15.20//NONSGML v1.0//EN
CALSCALE:GREGORIAN
METHOD:PUBLISH
X-ORIGINAL-URL:https://rock31.org
X-WR-CALDESC:Events for Rock31
REFRESH-INTERVAL;VALUE=DURATION:PT1H
X-Robots-Tag:noindex
X-PUBLISHED-TTL:PT1H
BEGIN:VTIMEZONE
TZID:America/Denver
BEGIN:DAYLIGHT
TZOFFSETFROM:-0700
TZOFFSETTO:-0600
TZNAME:MDT
DTSTART:20180311T090000
END:DAYLIGHT
BEGIN:STANDARD
TZOFFSETFROM:-0600
TZOFFSETTO:-0700
TZNAME:MST
DTSTART:20181104T080000
END:STANDARD
BEGIN:DAYLIGHT
TZOFFSETFROM:-0700
TZOFFSETTO:-0600
TZNAME:MDT
DTSTART:20190310T090000
END:DAYLIGHT
BEGIN:STANDARD
TZOFFSETFROM:-0600
TZOFFSETTO:-0700
TZNAME:MST
DTSTART:20191103T080000
END:STANDARD
BEGIN:DAYLIGHT
TZOFFSETFROM:-0700
TZOFFSETTO:-0600
TZNAME:MDT
DTSTART:20200308T090000
END:DAYLIGHT
BEGIN:STANDARD
TZOFFSETFROM:-0600
TZOFFSETTO:-0700
TZNAME:MST
DTSTART:20201101T080000
END:STANDARD
END:VTIMEZONE
BEGIN:VEVENT
DTSTART;TZID=America/Denver:20190205T083000
DTEND;TZID=America/Denver:20190206T143000
DTSTAMP:20260421T035931
CREATED:20190123T204046Z
LAST-MODIFIED:20190123T204046Z
UID:49498-1549355400-1549463400@rock31.org
SUMMARY:Plan\, Prepare\, Pass it On
DESCRIPTION:he Montana Chapter of Soil & Water Conservation Society (SWCS) will host a conference Feb 5-6\, 2019\, in Billings to help agricultural businesses\, ranches and farms prepare succession and business plans for their enterprises. The conference will be at the Northern Hotel in Billings\, MT. \nDeveloping business\, marketing and succession plans\, dealing with law changes\, accounting and people skills are all potential weaknesses in any business.  In agriculture\, in particular\, producers seem to concentrate on and excel at the day-to-day production functions and focus on other aspects of business development secondarily. \nThis conference is intended to build strength in agricultural business through techniques to plan biologically\, economically and successionally. \n  \nhttp://mtswcs.org/
URL:https://rock31.org/event/plan-prepare-pass-it-on/
LOCATION:Untitled
ATTACH;FMTTYPE=:
END:VEVENT
BEGIN:VEVENT
DTSTART;TZID=America/Denver:20190206T073000
DTEND;TZID=America/Denver:20190206T090000
DTSTAMP:20260421T035931
CREATED:20190130T152001Z
LAST-MODIFIED:20190130T152001Z
UID:49500-1549438200-1549443600@rock31.org
SUMMARY:BSED February Executive Committee Meeting
DESCRIPTION:Executive Committee Packet 02.06.19
URL:https://rock31.org/event/bsed-february-executive-committee-meeting/
LOCATION:Untitled
END:VEVENT
END:VCALENDAR