BEGIN:VCALENDAR
VERSION:2.0
PRODID:-//Rock31 - ECPv6.15.20//NONSGML v1.0//EN
CALSCALE:GREGORIAN
METHOD:PUBLISH
X-WR-CALNAME:Rock31
X-ORIGINAL-URL:https://rock31.org
X-WR-CALDESC:Events for Rock31
REFRESH-INTERVAL;VALUE=DURATION:PT1H
X-Robots-Tag:noindex
X-PUBLISHED-TTL:PT1H
BEGIN:VTIMEZONE
TZID:America/Denver
BEGIN:DAYLIGHT
TZOFFSETFROM:-0700
TZOFFSETTO:-0600
TZNAME:MDT
DTSTART:20170312T090000
END:DAYLIGHT
BEGIN:STANDARD
TZOFFSETFROM:-0600
TZOFFSETTO:-0700
TZNAME:MST
DTSTART:20171105T080000
END:STANDARD
BEGIN:DAYLIGHT
TZOFFSETFROM:-0700
TZOFFSETTO:-0600
TZNAME:MDT
DTSTART:20180311T090000
END:DAYLIGHT
BEGIN:STANDARD
TZOFFSETFROM:-0600
TZOFFSETTO:-0700
TZNAME:MST
DTSTART:20181104T080000
END:STANDARD
BEGIN:DAYLIGHT
TZOFFSETFROM:-0700
TZOFFSETTO:-0600
TZNAME:MDT
DTSTART:20190310T090000
END:DAYLIGHT
BEGIN:STANDARD
TZOFFSETFROM:-0600
TZOFFSETTO:-0700
TZNAME:MST
DTSTART:20191103T080000
END:STANDARD
END:VTIMEZONE
BEGIN:VEVENT
DTSTART;TZID=America/Denver:20180730T073000
DTEND;TZID=America/Denver:20180730T090000
DTSTAMP:20260421T112657
CREATED:20180725T180235Z
LAST-MODIFIED:20180725T180235Z
UID:49459-1532935800-1532941200@rock31.org
SUMMARY:One Big Sky District Community Meeting
DESCRIPTION:
URL:https://rock31.org/event/one-big-sky-district-community-meeting/
LOCATION:Untitled
END:VEVENT
BEGIN:VEVENT
DTSTART;TZID=America/Denver:20180730T170000
DTEND;TZID=America/Denver:20180802T183000
DTSTAMP:20260421T112657
CREATED:20180727T153302Z
LAST-MODIFIED:20180727T153302Z
UID:49461-1532970000-1533234600@rock31.org
SUMMARY:One Big Sky District Networking Reception
DESCRIPTION:
URL:https://rock31.org/event/one-big-sky-district-networking-reception/
LOCATION:Untitled
END:VEVENT
END:VCALENDAR