BEGIN:VCALENDAR
VERSION:2.0
PRODID:-//Rock31 - ECPv6.15.20//NONSGML v1.0//EN
CALSCALE:GREGORIAN
METHOD:PUBLISH
X-WR-CALNAME:Rock31
X-ORIGINAL-URL:https://rock31.org
X-WR-CALDESC:Events for Rock31
REFRESH-INTERVAL;VALUE=DURATION:PT1H
X-Robots-Tag:noindex
X-PUBLISHED-TTL:PT1H
BEGIN:VTIMEZONE
TZID:America/Denver
BEGIN:DAYLIGHT
TZOFFSETFROM:-0700
TZOFFSETTO:-0600
TZNAME:MDT
DTSTART:20170312T090000
END:DAYLIGHT
BEGIN:STANDARD
TZOFFSETFROM:-0600
TZOFFSETTO:-0700
TZNAME:MST
DTSTART:20171105T080000
END:STANDARD
BEGIN:DAYLIGHT
TZOFFSETFROM:-0700
TZOFFSETTO:-0600
TZNAME:MDT
DTSTART:20180311T090000
END:DAYLIGHT
BEGIN:STANDARD
TZOFFSETFROM:-0600
TZOFFSETTO:-0700
TZNAME:MST
DTSTART:20181104T080000
END:STANDARD
BEGIN:DAYLIGHT
TZOFFSETFROM:-0700
TZOFFSETTO:-0600
TZNAME:MDT
DTSTART:20190310T090000
END:DAYLIGHT
BEGIN:STANDARD
TZOFFSETFROM:-0600
TZOFFSETTO:-0700
TZNAME:MST
DTSTART:20191103T080000
END:STANDARD
END:VTIMEZONE
BEGIN:VEVENT
DTSTART;TZID=America/Denver:20180719T100000
DTEND;TZID=America/Denver:20180719T120000
DTSTAMP:20260421T125212
CREATED:20180718T165350Z
LAST-MODIFIED:20180718T165350Z
UID:49453-1531994400-1532001600@rock31.org
SUMMARY:PTAC Training: How to use Federal Award Data to Gain a Competitive Advantage
DESCRIPTION:Call Rosalind Dix at 869-8413 or visit https://mtptac.ecenterdirect.com/events/41303?embedded=0 to register
URL:https://rock31.org/event/ptac-training-how-to-use-federal-award-data-to-gain-a-competitive-advantage/
LOCATION:Untitled
END:VEVENT
BEGIN:VEVENT
DTSTART;TZID=America/Denver:20180719T170000
DTEND;TZID=America/Denver:20180719T200000
DTSTAMP:20260421T125212
CREATED:20180620T204946Z
LAST-MODIFIED:20180620T204946Z
UID:49436-1532019600-1532030400@rock31.org
SUMMARY:Alive After 5
DESCRIPTION:El Wencho at Montana Brewing Company
URL:https://rock31.org/event/alive-after-5-4/
LOCATION:Untitled
END:VEVENT
END:VCALENDAR