BEGIN:VCALENDAR
VERSION:2.0
PRODID:-//Rock31 - ECPv6.15.20//NONSGML v1.0//EN
CALSCALE:GREGORIAN
METHOD:PUBLISH
X-ORIGINAL-URL:https://rock31.org
X-WR-CALDESC:Events for Rock31
REFRESH-INTERVAL;VALUE=DURATION:PT1H
X-Robots-Tag:noindex
X-PUBLISHED-TTL:PT1H
BEGIN:VTIMEZONE
TZID:America/Denver
BEGIN:DAYLIGHT
TZOFFSETFROM:-0700
TZOFFSETTO:-0600
TZNAME:MDT
DTSTART:20170312T090000
END:DAYLIGHT
BEGIN:STANDARD
TZOFFSETFROM:-0600
TZOFFSETTO:-0700
TZNAME:MST
DTSTART:20171105T080000
END:STANDARD
BEGIN:DAYLIGHT
TZOFFSETFROM:-0700
TZOFFSETTO:-0600
TZNAME:MDT
DTSTART:20180311T090000
END:DAYLIGHT
BEGIN:STANDARD
TZOFFSETFROM:-0600
TZOFFSETTO:-0700
TZNAME:MST
DTSTART:20181104T080000
END:STANDARD
BEGIN:DAYLIGHT
TZOFFSETFROM:-0700
TZOFFSETTO:-0600
TZNAME:MDT
DTSTART:20190310T090000
END:DAYLIGHT
BEGIN:STANDARD
TZOFFSETFROM:-0600
TZOFFSETTO:-0700
TZNAME:MST
DTSTART:20191103T080000
END:STANDARD
END:VTIMEZONE
BEGIN:VEVENT
DTSTART;TZID=America/Denver:20180712T073000
DTEND;TZID=America/Denver:20180712T091500
DTSTAMP:20260421T140858
CREATED:20180705T204523Z
LAST-MODIFIED:20180705T204523Z
UID:49448-1531380600-1531386900@rock31.org
SUMMARY:July BSED Board Meeting
DESCRIPTION:07.12.2018 BESD Board Meeting Packet
URL:https://rock31.org/event/july-bsed-board-meeting/
END:VEVENT
BEGIN:VEVENT
DTSTART;TZID=America/Denver:20180712T110000
DTEND;TZID=America/Denver:20180712T130000
DTSTAMP:20260421T140858
CREATED:20180709T201739Z
LAST-MODIFIED:20180709T201739Z
UID:49450-1531393200-1531400400@rock31.org
SUMMARY:PTAC Training: How to Win More Federal Contracts with Competitive Pricing
DESCRIPTION:Call Rosalind Dix at 869-8413 or Deanna Langman at 869-8410 to register.
URL:https://rock31.org/event/ptac-training-how-to-win-more-federal-contracts-with-competitive-pricing/
LOCATION:Untitled
END:VEVENT
BEGIN:VEVENT
DTSTART;TZID=America/Denver:20180712T170000
DTEND;TZID=America/Denver:20180712T200000
DTSTAMP:20260421T140858
CREATED:20180620T204659Z
LAST-MODIFIED:20180620T204659Z
UID:49435-1531414800-1531425600@rock31.org
SUMMARY:Alive After 5
DESCRIPTION:John Roberts Y Pan Blanco at Walkers Urban Grill
URL:https://rock31.org/event/alive-after-5-3/
LOCATION:Untitled
END:VEVENT
END:VCALENDAR