BEGIN:VCALENDAR
VERSION:2.0
PRODID:-//Rock31 - ECPv6.15.20//NONSGML v1.0//EN
CALSCALE:GREGORIAN
METHOD:PUBLISH
X-ORIGINAL-URL:https://rock31.org
X-WR-CALDESC:Events for Rock31
REFRESH-INTERVAL;VALUE=DURATION:PT1H
X-Robots-Tag:noindex
X-PUBLISHED-TTL:PT1H
BEGIN:VTIMEZONE
TZID:America/Denver
BEGIN:DAYLIGHT
TZOFFSETFROM:-0700
TZOFFSETTO:-0600
TZNAME:MDT
DTSTART:20170312T090000
END:DAYLIGHT
BEGIN:STANDARD
TZOFFSETFROM:-0600
TZOFFSETTO:-0700
TZNAME:MST
DTSTART:20171105T080000
END:STANDARD
BEGIN:DAYLIGHT
TZOFFSETFROM:-0700
TZOFFSETTO:-0600
TZNAME:MDT
DTSTART:20180311T090000
END:DAYLIGHT
BEGIN:STANDARD
TZOFFSETFROM:-0600
TZOFFSETTO:-0700
TZNAME:MST
DTSTART:20181104T080000
END:STANDARD
BEGIN:DAYLIGHT
TZOFFSETFROM:-0700
TZOFFSETTO:-0600
TZNAME:MDT
DTSTART:20190310T090000
END:DAYLIGHT
BEGIN:STANDARD
TZOFFSETFROM:-0600
TZOFFSETTO:-0700
TZNAME:MST
DTSTART:20191103T080000
END:STANDARD
END:VTIMEZONE
BEGIN:VEVENT
DTSTART;TZID=America/Denver:20180621T160000
DTEND;TZID=America/Denver:20180621T180000
DTSTAMP:20260421T143212
CREATED:20180620T200955Z
LAST-MODIFIED:20180620T200955Z
UID:49432-1529596800-1529604000@rock31.org
SUMMARY:Build it Billings! Barbeque
DESCRIPTION:We’re welcoming the public to our backyard in celebration of how close we are to completing the Yellowstone Science and Allied Health Building\, brick by brick. \nEnjoy free barbecue\, beer\, wine and ice cream\, and a ton of fun\, family-friendly activities. Reach the top of our climbing wall as we get closer to reaching the top of our goal – $5 million for the new facility. Accept the MSU Billings Chancellor’s challenge and ring the bell for a photo opp when you donate to the cause. \nSee you on the first day of summer for an evening of fun with the MSUB Foundation!
URL:https://rock31.org/event/build-it-billings-barbeque/
LOCATION:Untitled
END:VEVENT
BEGIN:VEVENT
DTSTART;TZID=America/Denver:20180621T170000
DTEND;TZID=America/Denver:20180621T200000
DTSTAMP:20260421T143212
CREATED:20180620T203700Z
LAST-MODIFIED:20180620T203700Z
UID:49433-1529600400-1529611200@rock31.org
SUMMARY:Alive After 5
DESCRIPTION:The Hellroaring at Last Chance Pub and Cider Mill
URL:https://rock31.org/event/alive-after-5/
LOCATION:Untitled
END:VEVENT
END:VCALENDAR